BEGIN:VCALENDAR
VERSION:2.0
PRODID:-//Kalender//
BEGIN:VEVENT
SUMMARY:Fachbetriebsschulung nach WHG - Heizölverbraucheranlagen (ehemals
  § 19 l – WHG)
DTSTART:20260908T070000Z
DTEND:20260908T120000Z
DTSTAMP:20260420T023856Z
UID:event_ical_eventmanagement_2234
DESCRIPTION:Zielsetzung Vermittlung der Sachkunde für SHK-Unternehmen\, d
 ie eine   Eintragung als Fachbetrieb nach § 62 WHGneu (mit Prüfung!)  
  bzw. Wiederholungsschulung (ohne Prüfung) benötigen. Teilnehmer Führun
 gskräfte und verantwortliche technische Betriebsleiter (bitte beachten Si
 e den Hinweis unter „Prüfung“)!  Prüfung Für SHK-Unternehmen\, die
  die Eintragung als Fachbetrieb nach § 62 WHG neu erwerben wollen (Meiste
 rtitel bzw. Ingenieurdiplom - z. B. Versorgungstechnik - erforderlich)\, f
 indet im Anschluss eine Prüfung statt. Bitte geben Sie bei der Anmeldung 
 an\, ob Sie an der Prüfung teilnehmen wollen. Prüfungsgebühren sind nic
 ht im Schulungspreis enthalten- siehe Preis Seminarinhalt : Allgemeine anz
 uwendende Rechtsgebiete und deren wichtigsten Inhalte Landesbauordnung\, F
 euerungsverordnung\, Normen\, Gerätesicherheitsgesetz (GSG)\, Verordnung 
 für Flüssigkeiten (VbF)\, Technische Regeln für brennbare Flüssigkeite
 n (TRbF)\, Wasserhaushaltsgesetz (WHG)\, Verordnung über Anlagen zum Umga
 ng mit wassergefährdenden Stoffen (VAwS) Verwaltungsvorschrift zur VAwS /
  Anforderungen an Tankanlagen Tankbauarten\, Begriffe\, Aufstellraum / Roh
 rleitungen zur Versorgung von Ölfeuerungsanlagen\, Zulassungen\, Werkstof
 fe\, Korrosionsschutz\, Dimensionierung\, Sicherheitseinrichtungen\, Erfor
 derliche Arbeiten und Gefahren bei der Tankstilllegung Preis: MGL * im FV 
 SHK Land Brdb.:             290\,00 €             
   NMGL ** im FV SHK Land Brdb.:    380\,00 € Prüfungsgebühr MGL * :
                           70\,00 €        
       NMGL ** :                                    
        85\,00 € * MGL = Mitglieder einer dem FV SHK angeschlossenen I
 nnung &amp\; EM / ** NMGL = Nichtmitglieder
LOCATION:BÄR & OLLENROTH KG Brandenburg\, Rudolf-Moos-Straße 6\, 14482 P
 otsdam\, Deutschland
END:VEVENT
END:VCALENDAR
